Workbook

Sheet VIGENCIA ACTUAL 
A5: INFORME DE EJECUCION PRESUPUESTAL
B8: SECCION: | D8: 4301
B9: UNIDAD EJECUTORA: | D9: 430101
B10: AÑO FISCAL: | D10: 2025
B11: PERIODO: | D11: Octubre | K11: =+K12-K15 -> 0 | P11: =P15-P12 -> 0 | R11: =R15-R12 -> 0 | S11: =S15-S12 -> 0 | T11: =T15-T12 -> 0 | U11: =U15-U12 -> 0 | V11: =V15-V12 -> 0
K12: =+[1]REP_EPG034_EjecucionPresupuesta!$Q$20 -> 464365817578 | P12: =+[1]REP_EPG034_EjecucionPresupuesta!$T$20 -> 467600696578 | R12: =+[1]REP_EPG034_EjecucionPresupuesta!$V$20 -> 4.2298762e+11 | S12: =+[1]REP_EPG034_EjecucionPresupuesta!$X$20 -> 3.5304122e+11 | T12: =+[1]REP_EPG034_EjecucionPresupuesta!$Y$20 -> 2.3087623e+11 | U12: =+[1]REP_EPG034_EjecucionPresupuesta!$Z$20 -> 2.3087623e+11 | V12: =+[1]REP_EPG034_EjecucionPresupuesta!$AA$20 -> 2.3087623e+11
A13: IDENTIFICACIÓN PRESUPUESTAL | J13: NOMBRE DEL RUBRO | K13: APROPIACIÓN INICIAL | L13: TRASLADOS | N13: REDUCCIÓN | O13: ADICIÓN | P13: APROPIACIÓN VIGENTE | Q13: APROPIACIÓN BLOQUEADA . PREVIO CONCEPTO | R13: CDP ACUMULADOS | S13: COMPROMISO ACUMULADOS | T13: OBLIGACIÓN ACUMULADOS | U13: ORDEN PAGO ACUMULADOS | V13: PAGOS ACUMULADOS | W13: % EJECUCIÓN COMPROMISOS | X13: % EJECUCIÓN OBLGACIONES
A14: Tipo Presupuesto | B14: Cuenta / Programa | C14: Subcuenta / Subprograma | D14: Objeto / Proyecto | E14: Ordinal / Subproy | F14: SubOrdinal / Producto | G14: Rec | H14: FUENTE | I14: Situación | L14: CONTRACRÉDITO | M14: CRÉDITO
A15: A+B+C | J15: TOTAL PRESUPUESTO | K15: =K16+K71 -> 464365817578 | L15: =L16+L71 -> 2.8073923e+10 | M15: =M16+M71 -> 2.8073923e+10 | N15: =N16+N71 -> 0 | O15: =O16+O71 -> 3234879000 | P15: =P16+P71 -> 467600696578 | Q15: =Q16+Q71 -> 18000000000 | R15: =R16+R71 -> 4.2298762e+11 | ... V15: =V16+V71 -> 2.3087623e+11 | W15: =S15/P15 -> 0.75500576 | X15: =T15/P15 -> 0.49374655
A16: A | J16: A- FUNCIONAMIENTO | K16: =K17+K38+K53+K64 -> 64365817578 | L16: =L17+L38+L53+L64 -> 4.4636629e+08 | M16: =M17+M38+M53+M64 -> 4.4636629e+08 | N16: =N17+N38+N53+N64 -> 0 | O16: =O17+O38+O53+O64 -> 3234879000 | P16: =P17+P38+P53+P64 -> 67600696578 | Q16: =Q17+Q38+Q53+Q64 -> 18000000000 | R16: =R17+R38+R53+R64 -> 4.5259917e+10 | ... V16: =V17+V38+V53+V64 -> 3.3225629e+10 | W16: =S16/P16 -> 0.53601668 | X16: =T16/P16 -> 0.49149833
A17: A | B17: 01 | J17: GASTOS DE PERSONAL | K17: =SUM(K18) -> 25638308166 | L17: =SUM(L18) -> 0 | M17: =SUM(M18) -> 0 | N17: =SUM(N18) -> 0 | O17: =+O19+O21+O31 -> 3234879000 | P17: =SUM(P18) -> 28873187166 | Q17: =SUM(Q18) -> 0 | R17: =SUM(R18) -> 25638308166 | S17: =SUM(S18) -> 20441300682 | T17: =SUM(T18) -> 20441300682 | U17: =SUM(U18) -> 20441300682 | V17: =SUM(V18) -> 20441300682 | W17: =S17/P17 -> 0.70796828 | X17: =T17/P17 -> 0.70796828
A18: A | B18: 01 | C18: 01 | J18: PLANTA DE PERSONAL PERMANENTE | K18: =K19+K21+K31 -> 25638308166 | N18: =N19+N21+N31 -> 0 | P18: =P19+P21+P31 -> 28873187166 | Q18: =Q19+Q21+Q31 -> 0 | R18: =R19+R21+R31 -> 25638308166 | S18: =S19+S21+S31 -> 20441300682 | T18: =T19+T21+T31 -> 20441300682 | U18: =U19+U21+U31 -> 20441300682 | V18: =V19+V21+V31 -> 20441300682 | W18: =S18/P18 -> 0.70796828 | X18: =T18/P18 -> 0.70796828
A19: A | B19: 01 | C19: 01 | D19: 01 | J19: SALARIO | K19: =K20 -> 17194812437 | M19: =M20 -> 0 | N19: =N20 -> 0 | O19: 1780188000 | P19: =K19-L19+M19-N19+O19 -> 18975000437 | Q19: =Q20 -> 0 | R19: =R20 -> 17194812437 | S19: =S20 -> 13331314849 | T19: =T20 -> 13331314849 | U19: =U20 -> 13331314849 | V19: =V20 -> 13331314849 | W19: =S19/P19 -> 0.70257257 | X19: =T19/P19 -> 0.70257257
A20: A | B20: 01 | C20: 01 | D20: 01 | E20: 001 | G20: 10 | H20: Nación | I20: CSF | J20: FACTORES SALARIALES COMUNES | K20: 17194812437 | O20: 0 | P20: =K20-L20+M20-N20+O20 -> 17194812437 | R20: 17194812437 | S20: 13331314849 | T20: 13331314849 | U20: 13331314849 | V20: 13331314849 | W20: =S20/P20 -> 0.77531028 | X20: =T20/P20 -> 0.77531028
A21: A | B21: 01 | C21: 01 | D21: 02 | J21: CONTRIBUCIONES INHERENTES A LA NÓMINA | K21: =SUM(K22:K30) -> 6086624289 | L21: =SUM(L22:L30) -> 0 | M21: =SUM(M22:M30) -> 0 | N21: =SUM(N22:N30) -> 0 | O21: 857641000 | P21: =K21-L21+M21-N21+O21 -> 6944265289 | Q21: =SUM(Q22:Q30) -> 0 | R21: =SUM(R22:R30) -> 6086624289 | S21: =SUM(S22:S30) -> 5317459613 | T21: =SUM(T22:T30) -> 5317459613 | U21: =SUM(U22:U30) -> 5317459613 | V21: =SUM(V22:V30) -> 5317459613 | W21: =S21/P21 -> 0.76573394 | X21: =T21/P21 -> 0.76573394
A22: A | B22: 01 | C22: 01 | D22: 02 | E22: 001 | G22: 10 | H22: Nación | I22: CSF | J22: APORTES A LA SEGURIDAD SOCIAL EN PENSIONES | K22: 1800000000 | P22: =K22-L22+M22-N22+O22 -> 1800000000 | R22: 1800000000 | S22: 1568005400 | T22: 1568005400 | U22: 1568005400 | V22: 1568005400 | W22: =S22/P22 -> 0.87111411 | X22: =T22/P22 -> 0.87111411
A23: A | B23: 01 | C23: 01 | D23: 02 | E23: 002 | G23: 10 | H23: Nación | I23: CSF | J23: APORTES A LA SEGURIDAD SOCIAL EN SALUD | K23: 1330000000 | P23: =K23-L23+M23-N23+O23 -> 1330000000 | R23: 1330000000 | S23: 1109096308 | T23: 1109096308 | U23: 1109096308 | V23: 1109096308 | W23: =S23/P23 -> 0.833907 | X23: =T23/P23 -> 0.833907
A24: A | B24: 01 | C24: 01 | D24: 02 | E24: 003 | G24: 10 | H24: Nación | I24: CSF | J24: AUXILIO DE CESANTÍAS | K24: 1360624289 | P24: =K24-L24+M24-N24+O24 -> 1360624289 | R24: 1360624289 | S24: 1286769805 | T24: 1286769805 | U24: 1286769805 | V24: 1286769805 | W24: =S24/P24 -> 0.94572015 | X24: =T24/P24 -> 0.94572015
A25: A | B25: 01 | C25: 01 | D25: 02 | E25: 004 | G25: 10 | H25: Nación | I25: CSF | J25: APORTES A CAJAS DE COMPENSACIÓN FAMILIAR | K25: 670000000 | P25: =K25-L25+M25-N25+O25 -> 670000000 | R25: 670000000 | S25: 565702500 | T25: 565702500 | U25: 565702500 | V25: 565702500 | W25: =S25/P25 -> 0.84433209 | X25: =T25/P25 -> 0.84433209
A26: A | B26: 01 | C26: 01 | D26: 02 | E26: 005 | G26: 10 | H26: Nación | I26: CSF | J26: APORTES GENERALES AL SISTEMA DE RIESGOS LABORALES | K26: 96000000 | P26: =K26-L26+M26-N26+O26 -> 96000000 | R26: 96000000 | S26: 80487700 | T26: 80487700 | U26: 80487700 | V26: 80487700 | W26: =S26/P26 -> 0.83841354 | X26: =T26/P26 -> 0.83841354
A27: A | B27: 01 | C27: 01 | D27: 02 | E27: 006 | G27: 10 | H27: Nación | I27: CSF | J27: APORTES AL ICBF | K27: 490000000 | P27: =K27-L27+M27-N27+O27 -> 490000000 | R27: 490000000 | S27: 424303900 | T27: 424303900 | U27: 424303900 | V27: 424303900 | W27: =S27/P27 -> 0.86592633 | X27: =T27/P27 -> 0.86592633
A28: A | B28: 01 | C28: 01 | D28: 02 | E28: 007 | G28: 10 | H28: Nación | I28: CSF | J28: APORTES AL SENA | K28: 90000000 | P28: =K28-L28+M28-N28+O28 -> 90000000 | R28: 90000000 | S28: 70798700 | T28: 70798700 | U28: 70798700 | V28: 70798700 | W28: =S28/P28 -> 0.78665222 | X28: =T28/P28 -> 0.78665222
A29: A | B29: 01 | C29: 01 | D29: 02 | E29: 008 | G29: 10 | H29: Nación | I29: CSF | J29: APORTES A LA ESAP | K29: 90000000 | P29: =K29-L29+M29-N29+O29 -> 90000000 | R29: 90000000 | S29: 70798700 | T29: 70798700 | U29: 70798700 | V29: 70798700 | W29: =S29/P29 -> 0.78665222 | X29: =T29/P29 -> 0.78665222
A30: A | B30: 01 | C30: 01 | D30: 02 | E30: 009 | G30: 10 | H30: Nación | I30: CSF | J30: APORTES A ESCUELAS INDUSTRIALES E INSTITUTOS TÉCNICOS | K30: 160000000 | P30: =K30-L30+M30-N30+O30 -> 160000000 | R30: 160000000 | S30: 141496600 | T30: 141496600 | U30: 141496600 | V30: 141496600 | W30: =S30/P30 -> 0.88435375 | X30: =T30/P30 -> 0.88435375
A31: A | B31: 01 | C31: 01 | D31: 03 | J31: REMUNERACIONES NO CONSTITUTIVAS DE FACTOR SALARIAL | K31: =SUM(K32:K37) -> 2356871440 | L31: =SUM(L32:L37) -> 0 | M31: =SUM(M32:M37) -> 0 | N31: =SUM(N32:N37) -> 0 | O31: 597050000 | P31: =K31-L31+M31-N31+O31 -> 2953921440 | Q31: =SUM(Q32:Q37) -> 0 | R31: =SUM(R32:R37) -> 2356871440 | S31: =SUM(S32:S37) -> 1792526220 | T31: =SUM(T32:T37) -> 1792526220 | U31: =SUM(U32:U37) -> 1792526220 | V31: =SUM(V32:V37) -> 1792526220 | W31: =S31/P31 -> 0.60682935 | X31: =T31/P31 -> 0.60682935
A32: A | B32: 01 | C32: 01 | D32: 03 | E32: 001 | G32: 10 | H32: Nación | I32: CSF | J32: PRESTACIONES SOCIALES SEGÚN DEFINICIÓN LEGAL | K32: 1088871440 | P32: =K32-L32+M32-N32+O32 -> 1088871440 | R32: 1088871440 | S32: 818365300 | T32: 818365300 | U32: 818365300 | V32: 818365300 | W32: =S32/P32 -> 0.75157201 | X32: =T32/P32 -> 0.75157201
A33: A | B33: 01 | C33: 01 | D33: 03 | E33: 002 | G33: 10 | H33: Nación | I33: CSF | J33: PRIMA TÉCNICA NO SALARIAL | K33: 255000000 | P33: =K33-L33+M33-N33+O33 -> 255000000 | R33: 255000000 | S33: 237957501 | T33: 237957501 | U33: 237957501 | V33: 237957501 | W33: =S33/P33 -> 0.93316667 | X33: =T33/P33 -> 0.93316667
A34: A | B34: 01 | C34: 01 | D34: 03 | E34: 005 | G34: 10 | H34: Nación | I34: CSF | J34: PRIMA DE RIESGO | K34: 13000000 | P34: =K34-L34+M34-N34+O34 -> 13000000 | R34: 13000000 | S34: 10289218 | T34: 10289218 | U34: 10289218 | V34: 10289218 | W34: =S34/P34 -> 0.79147831 | X34: =T34/P34 -> 0.79147831
A35: A | B35: 01 | C35: 01 | D35: 03 | E35: 007 | G35: 10 | H35: Nación | I35: CSF | J35: PRIMA DE DIRECCIÓN | K35: 80000000 | P35: =K35-L35+M35-N35+O35 -> 80000000 | R35: 80000000 | S35: 69017360 | T35: 69017360 | U35: 69017360 | V35: 69017360 | W35: =S35/P35 -> 0.862717 | X35: =T35/P35 -> 0.862717
A36: A | B36: 01 | C36: 01 | D36: 03 | E36: 016 | G36: 10 | H36: Nación | I36: CSF | J36: PRIMA DE COORDINACIÓN | K36: 450000000 | P36: =K36-L36+M36-N36+O36 -> 450000000 | R36: 450000000 | S36: 412956242 | T36: 412956242 | U36: 412956242 | V36: 412956242 | W36: =S36/P36 -> 0.91768054 | X36: =T36/P36 -> 0.91768054
A37: A | B37: 01 | C37: 01 | D37: 03 | E37: 030 | G37: 10 | H37: Nación | I37: CSF | J37: BONIFICACIÓN DE DIRECCIÓN | K37: 470000000 | P37: =K37-L37+M37-N37+O37 -> 470000000 | R37: 470000000 | S37: 243940599 | T37: 243940599 | U37: 243940599 | V37: 243940599 | W37: =S37/P37 -> 0.51902255 | X37: =T37/P37 -> 0.51902255
A38: A | B38: 02 | J38: ADQUISICIÓN DE BIENES Y SERVICIOS | K38: =K39+K41 -> 7967841118 | L38: =L41 -> 4.4636629e+08 | M38: =M41 -> 4.4636629e+08 | N38: =N41 -> 0 | O38: =O41 -> 0 | P38: =P39+P41 -> 7967841118 | Q38: =Q39+Q41 -> 0 | R38: =R39+R41 -> 7.9581316e+09 | S38: =S39+S41 -> 7.0209591e+09 | T38: =T39+T41 -> 4.2963907e+09 | U38: =U39+U41 -> 4.2963907e+09 | V38: =V39+V41 -> 4.2963907e+09 | W38: =S38/P38 -> 0.88116203 | X38: =T38/P38 -> 0.53921642
A39: A | B39: 02 | C39: 01 | D39: 01 | J39: ACTIVOS FIJOS | K39: =K40 -> 3000000 | P39: =P40 -> 3000000 | R39: =R40 -> 1484620 | S39: =S40 -> 1484620 | T39: =T40 -> 1484620 | U39: =U40 -> 1484620 | V39: =V40 -> 1484620 | W39: =S39/P39 -> 0.49487333 | X39: =T39/P39 -> 0.49487333
A40: A | B40: 02 | C40: 01 | D40: 01 | E40: 004 | G40: 10 | H40: Nación | I40: CSF | J40: MAQUINARIA Y EQUIPO | K40: 3000000 | P40: =K40-L40+M40-N40+O40 -> 3000000 | R40: 1484620 | S40: 1484620 | T40: 1484620 | U40: 1484620 | V40: 1484620 | W40: =S40/P40 -> 0.49487333 | X40: =T40/P40 -> 0.49487333
A41: A | B41: 02 | C41: 02 | J41: ADQUISICIONES DIFERENTES DE ACTIVOS | K41: =K42+K47 -> 7964841118 | L41: =L42+L47 -> 4.4636629e+08 | M41: =M42+M47 -> 4.4636629e+08 | N41: =N42+N47 -> 0 | O41: =O42+O47 -> 0 | P41: =K41-L41+M41-N41+O41 -> 7964841118 | Q41: =Q42+Q47 -> 0 | R41: =R42+R47 -> 7.956647e+09 | S41: =S42+S47 -> 7.0194744e+09 | T41: =T42+T47 -> 4.2949061e+09 | U41: =U42+U47 -> 4.2949061e+09 | V41: =V42+V47 -> 4.2949061e+09 | W41: =S41/P41 -> 0.88130753 | X41: =T41/P41 -> 0.53923312
A42: A | B42: 02 | C42: 02 | D42: 01 | J42: MATERIALES Y SUMINISTROS | K42: =SUM(K43:K46) -> 81700000 | L42: =SUM(L43:L46) -> 32061607 | M42: =SUM(M43:M46) -> 74700000 | N42: =SUM(N43:N46) -> 0 | O42: =SUM(O43:O46) -> 0 | P42: =SUM(P43:P46) -> 124338393 | Q42: =SUM(Q43:Q46) -> 0 | R42: =SUM(R43:R46) -> 1.2101226e+08 | ... V42: =SUM(V43:V46) -> 19957574 | W42: =S42/P42 -> 0.55824829 | X42: =T42/P42 -> 0.16051015
A43: A | B43: 02 | C43: 02 | D43: 01 | E43: 001 | G43: 10 | H43: Nación | I43: CSF | J43: MINERALES; ELECTRICIDAD, GAS Y AGUA | K43: 1000000 | P43: =K43-L43+M43-N43+O43 -> 1000000 | R43: 500000 | S43: 500000 | T43: 500000 | U43: 500000 | V43: 500000 | W43: =S43/P43 -> 0.5 | X43: =T43/P43 -> 0.5
A44: A | B44: 02 | C44: 02 | D44: 01 | E44: 002 | G44: 10 | H44: Nación | I44: CSF | J44: PRODUCTOS ALIMENTICIOS, BEBIDAS Y TABACO; TEXTILES, PRENDAS DE VESTIR Y PRODUCTOS DE CUERO | K44: 17000000 | L44: 5000000 | P44: =K44-L44+M44-N44+O44 -> 12000000 | R44: 11760000 | S44: 11760000 | T44: 0 | U44: 0 | V44: 0 | W44: =S44/P44 -> 0.98 | X44: =T44/P44 -> 0
A45: A | B45: 02 | C45: 02 | D45: 01 | E45: 003 | G45: 10 | H45: Nación | I45: CSF | J45: OTROS BIENES TRANSPORTABLES (EXCEPTO PRODUCTOS METÁLICOS, MAQUINARIA Y EQUIPO) | K45: 60700000 | L45: =13200000+800000+3371667 -> 17371667 | M45: 59250000 | P45: =K45-L45+M45-N45+O45 -> 102578333 | R45: 1.007527e+08 | S45: 49152135 | T45: 16313214 | U45: 16313214 | V45: 16313214 | W45: =S45/P45 -> 0.47916684 | X45: =T45/P45 -> 0.15903177
A46: A | B46: 02 | C46: 02 | D46: 01 | E46: 004 | G46: 10 | H46: Nación | I46: CSF | J46: PRODUCTOS METÁLICOS Y PAQUETES DE SOFTWARE | K46: 3000000 | L46: 9689940 | M46: 15450000 | P46: =K46-L46+M46-N46+O46 -> 8760060 | R46: 7999560 | S46: 7999560 | T46: 3144360 | U46: 3144360 | V46: 3144360 | W46: =S46/P46 -> 0.91318553 | X46: =T46/P46 -> 0.35894275
...

Sheet GRÁFICOS (2)
C1: =+[1]REP_EPG034_EjecucionPresupuesta!$T$20-C3 -> 0 | D1: =+[1]REP_EPG034_EjecucionPresupuesta!$V$20-D3 -> 0 | E1: =+[1]REP_EPG034_EjecucionPresupuesta!$X$20-E3 -> 0 | F1: =+[1]REP_EPG034_EjecucionPresupuesta!$Y$20-F3 -> 0 | G1: =+[1]REP_EPG034_EjecucionPresupuesta!$AA$20-G3 -> 0
C2: APROPIACIÓN VIGENTE | D2: CDP | E2: COMPROMISO | F2: OBLIGACIÓN | G2: PAGO | H2: CDP % | I2: RPC % | J2: OBLIGACIÓN % | K2: PAGO %
A3: A+B+C | B3: TOTAL PRESUPUESTO | C3: ='VIGENCIA ACTUAL '!P15 -> 467600696578 | D3: ='VIGENCIA ACTUAL '!R15 -> 4.2298762e+11 | E3: ='VIGENCIA ACTUAL '!S15 -> 3.5304122e+11 | F3: ='VIGENCIA ACTUAL '!T15 -> 2.3087623e+11 | G3: ='VIGENCIA ACTUAL '!V15 -> 2.3087623e+11 | H3: =D3/$C$3 -> 0.9045915 | I3: =E3/$C$3 -> 0.75500576 | J3: =F3/$C$3 -> 0.49374655 | K3: =G3/$C$3 -> 0.49374655
A5: A | B5: FUNCIONAMIENTO | C5: ='VIGENCIA ACTUAL '!P16 -> 67600696578 | D5: ='VIGENCIA ACTUAL '!R16 -> 4.5259917e+10 | E5: ='VIGENCIA ACTUAL '!S16 -> 3.6235101e+10 | F5: ='VIGENCIA ACTUAL '!T16 -> 3.3225629e+10 | G5: ='VIGENCIA ACTUAL '!V16 -> 3.3225629e+10 | H5: =D5/$C$5 -> 0.6695185 | I5: =E5/$C$5 -> 0.53601668 | J5: =F5/$C$5 -> 0.49149833 | K5: =G5/$C$5 -> 0.49149833
A6: C | B6: INVERSIÓN | C6: ='VIGENCIA ACTUAL '!P71 -> 400000000000 | D6: ='VIGENCIA ACTUAL '!R71 -> 3.777277e+11 | E6: ='VIGENCIA ACTUAL '!S71 -> 3.1680612e+11 | F6: ='VIGENCIA ACTUAL '!T71 -> 197650599793 | G6: ='VIGENCIA ACTUAL '!V71 -> 197650599793 | H6: =D6/$C$6 -> 0.94431925 | I6: =E6/$C$6 -> 0.7920153 | J6: =F6/$C$6 -> 0.4941265 | K6: =G6/$C$6 -> 0.4941265
A8: A-01 | B8: GASTOS DE PERSONAL | C8: ='VIGENCIA ACTUAL '!P17 -> 28873187166 | D8: ='VIGENCIA ACTUAL '!R17 -> 25638308166 | E8: ='VIGENCIA ACTUAL '!S17 -> 20441300682 | F8: ='VIGENCIA ACTUAL '!T17 -> 20441300682 | G8: ='VIGENCIA ACTUAL '!V17 -> 20441300682 | H8: =D8/$C$8 -> 0.88796252 | I8: =E8/$C$8 -> 0.70796828 | J8: =F8/$C$8 -> 0.70796828 | K8: =G8/$C$8 -> 0.70796828
A9: A-02 | B9: ADQUISICIÓN DE BIENES Y SERVICIOS | C9: ='VIGENCIA ACTUAL '!P38 -> 7967841118 | D9: ='VIGENCIA ACTUAL '!R38 -> 7.9581316e+09 | E9: ='VIGENCIA ACTUAL '!S38 -> 7.0209591e+09 | F9: ='VIGENCIA ACTUAL '!T38 -> 4.2963907e+09 | G9: ='VIGENCIA ACTUAL '!V38 -> 4.2963907e+09 | H9: =D9/$C$9 -> 0.99878141 | I9: =E9/$C$9 -> 0.88116203 | J9: =F9/$C$9 -> 0.53921642 | K9: =G9/$C$9 -> 0.53921642
A10: A-03 | B10: TRANSFERENCIAS CORRIENTES | C10: ='VIGENCIA ACTUAL '!P53 -> 28745862367 | D10: ='VIGENCIA ACTUAL '!R53 -> 10745862367 | E10: ='VIGENCIA ACTUAL '!S53 -> 8.7710937e+09 | F10: ='VIGENCIA ACTUAL '!T53 -> 8.4861901e+09 | G10: ='VIGENCIA ACTUAL '!V53 -> 8.4861901e+09 | H10: =D10/$C$10 -> 0.37382293 | I10: =E10/$C$10 -> 0.30512543 | J10: =F10/$C$10 -> 0.29521432 | K10: =G10/$C$10 -> 0.29521432
A11: A-08 | B11: GASTOS POR TRIBUTOS, MULTAS, SANCIONES E INTERESES DE MORA | C11: ='VIGENCIA ACTUAL '!P64 -> 2013805927 | D11: ='VIGENCIA ACTUAL '!R64 -> 917614548 | E11: =+'VIGENCIA ACTUAL '!S64 -> 1747800 | F11: ='VIGENCIA ACTUAL '!T64 -> 1747800 | G11: ='VIGENCIA ACTUAL '!V64 -> 1747800 | H11: =D11/$C$11 -> 0.45566186 | I11: =E11/$C$11 -> 0.00086790886 | J11: =F11/$C$11 -> 0.00086790886 | K11: =G11/$C$11 -> 0.00086790886
A14: C-4301 | B14: FOMENTO A LA RECREACIÓN, LA ACTIVIDAD FÍSICA Y EL DEPORTE PARA DESARROLLAR ENTORNOS DE CONVIVENCIA Y PAZ | C14: ='VIGENCIA ACTUAL '!P72 -> 121017078763 | D14: ='VIGENCIA ACTUAL '!R72 -> 1.1506579e+11 | E14: ='VIGENCIA ACTUAL '!S72 -> 1.1114207e+11 | F14: ='VIGENCIA ACTUAL '!T72 -> 6.490814e+10 | G14: ='VIGENCIA ACTUAL '!V72 -> 6.490814e+10 | H14: =D14/$C$14 -> 0.95082276 | I14: =E14/$C$14 -> 0.9183999 | J14: =F14/$C$14 -> 0.5363552 | K14: =G14/$C$14 -> 0.5363552
A15: C-4302 | B15: FORMACIÓN Y PREPARACIÓN DE DEPORTISTAS | C15: ='VIGENCIA ACTUAL '!P84 -> 261082921237 | D15: ='VIGENCIA ACTUAL '!R84 -> 2.4587395e+11 | E15: ='VIGENCIA ACTUAL '!S84 -> 1.9211535e+11 | F15: ='VIGENCIA ACTUAL '!T84 -> 1.2474304e+11 | G15: ='VIGENCIA ACTUAL '!V84 -> 1.2474304e+11 | H15: =D15/$C$15 -> 0.94174658 | I15: =E15/$C$15 -> 0.73584034 | J15: =F15/$C$15 -> 0.47779089 | K15: =G15/$C$15 -> 0.47779089
A16: C-4399 | B16: ='VIGENCIA ACTUAL '!J114 -> FORTALECIMIENTO Y APOYO A LA GESTIÓN INSTITUCIONAL DEL SECTOR RECREACIÓN Y DEPORTE | C16: ='VIGENCIA ACTUAL '!P114 -> 17900000000 | D16: ='VIGENCIA ACTUAL '!R114 -> 1.6787959e+10 | E16: ='VIGENCIA ACTUAL '!S114 -> 1.3548699e+10 | F16: ='VIGENCIA ACTUAL '!T114 -> 7.999419e+09 | G16: ='VIGENCIA ACTUAL '!V114 -> 7.999419e+09 | H16: =D16/$C$16 -> 0.93787478 | I16: =E16/$C$16 -> 0.75691057 | J16: =F16/$C$16 -> 0.44689492 | K16: =G16/$C$16 -> 0.44689492
A18: C-4301-1604-13-20203B | B18: ='VIGENCIA ACTUAL '!J75 -> 2. SEGURIDAD HUMANA Y JUSTICIA SOCIAL / B. RESIGNIFICACIÓN DE LA JORNADA ESCOLAR: MÁS QUE TIEMPO | C18: ='VIGENCIA ACTUAL '!P75 -> 80000000000 | D18: ='VIGENCIA ACTUAL '!R75 -> 7.4536877e+10 | E18: ='VIGENCIA ACTUAL '!S75 -> 74286984221 | F18: ='VIGENCIA ACTUAL '!T75 -> 4.7450843e+10 | G18: ='VIGENCIA ACTUAL '!V75 -> 4.7450843e+10 | H18: =D18/$C$18 -> 0.93171096 | I18: =E18/$C$18 -> 0.9285873 | J18: =F18/$C$18 -> 0.59313554 | K18: =G18/$C$18 -> 0.59313554
A19: C-4301-1604-14-20303A | B19: ='VIGENCIA ACTUAL '!J80 -> 2. SEGURIDAD HUMANA Y JUSTICIA SOCIAL / A. DEMOCRATIZAR EL ACCESO DE LA POBLACIÓN AL DEPORTE, LA RECREACIÓN Y LA ACTIVIDAD FÍSICA | C19: ='VIGENCIA ACTUAL '!P80 -> 41017078763 | D19: ='VIGENCIA ACTUAL '!R80 -> 4.0528916e+10 | E19: ='VIGENCIA ACTUAL '!S80 -> 3.6855089e+10 | F19: ='VIGENCIA ACTUAL '!T80 -> 1.7457297e+10 | G19: ='VIGENCIA ACTUAL '!V80 -> 1.7457297e+10 | H19: =D19/$C$19 -> 0.98809855 | I19: =E19/$C$19 -> 0.89853033 | J19: =F19/$C$19 -> 0.42561044 | K19: =G19/$C$19 -> 0.42561044
A20: C-4302-1604-20-20303D | B20: ='VIGENCIA ACTUAL '!J87 -> 2. SEGURIDAD HUMANA/D. SISTEMA DE INFORMACIÓN DEL DEPORTE, LA RECREACIÓN Y LA ACTIVIDAD FÍSICA | C20: ='VIGENCIA ACTUAL '!P87 -> 1345730309 | D20: ='VIGENCIA ACTUAL '!R87 -> 1322986667 | E20: ='VIGENCIA ACTUAL '!S87 -> 1061830767 | F20: ='VIGENCIA ACTUAL '!T87 -> 863448985 | G20: ='VIGENCIA ACTUAL '!V87 -> 863448985 | H20: =D20/$C$20 -> 0.98309941 | I20: =E20/$C$20 -> 0.78903682 | J20: =F20/$C$20 -> 0.64162112 | K20: =G20/$C$20 -> 0.64162112
A21: C-4302-1604-23-20303A | B21: ='VIGENCIA ACTUAL '!J90 -> 2. SEGURIDAD HUMANA Y JUSTICIA SOCIAL / A. DEMOCRATIZAR EL ACCESO DE LA POBLACIÓN AL DEPORTE, LA RECREACIÓN Y LA ACTIVIDAD FÍSICA | C21: ='VIGENCIA ACTUAL '!P90 -> 2691460619 | D21: ='VIGENCIA ACTUAL '!R90 -> 2635379952 | E21: ='VIGENCIA ACTUAL '!S90 -> 2569269955 | F21: ='VIGENCIA ACTUAL '!T90 -> 1.9203967e+09 | G21: ='VIGENCIA ACTUAL '!V90 -> 1.9203967e+09 | H21: =D21/$C$21 -> 0.97916348 | I21: =E21/$C$21 -> 0.95460061 | J21: =F21/$C$21 -> 0.71351468 | K21: =G21/$C$21 -> 0.71351468
A22: C-4302-1604-24-20303E | B22: ='VIGENCIA ACTUAL '!J94 -> 2. SEGURIDAD HUMANA Y JUSTICIA SOCIAL / E. ATLETAS Y PARATLETAS COMO EMBAJADORES DE PAZ EN EL MUNDO | C22: ='VIGENCIA ACTUAL '!P94 -> 2345730309 | D22: ='VIGENCIA ACTUAL '!R94 -> 2345730309 | E22: ='VIGENCIA ACTUAL '!S94 -> 1350501012 | F22: ='VIGENCIA ACTUAL '!T94 -> 1.3098478e+09 | G22: ='VIGENCIA ACTUAL '!V94 -> 1.3098478e+09 | H22: =D22/$C$22 -> 1 | I22: =E22/$C$22 -> 0.57572731 | J22: =F22/$C$22 -> 0.55839658 | K22: =G22/$C$22 -> 0.55839658
A23: C-4302-1604-26-20303E | B23: ='VIGENCIA ACTUAL '!J98 -> 2. SEGURIDAD HUMANA Y JUSTICIA SOCIAL / E. ATLETAS Y PARATLETAS COMO EMBAJADORES DE PAZ EN EL MUNDO | C23: ='VIGENCIA ACTUAL '!P98 -> 118673530652 | D23: ='VIGENCIA ACTUAL '!R98 -> 1.1773272e+11 | E23: ='VIGENCIA ACTUAL '!S98 -> 9.3565887e+10 | F23: ='VIGENCIA ACTUAL '!T98 -> 7.5418722e+10 | G23: ='VIGENCIA ACTUAL '!V98 -> 7.5418722e+10 | H23: =D23/$C$23 -> 0.99207227 | I23: =E23/$C$23 -> 0.78843097 | J23: =F23/$C$23 -> 0.63551426 | K23: =G23/$C$23 -> 0.63551426
A24: C-4399-1604-27-20303E | B24: ='VIGENCIA ACTUAL '!J105 -> 2. SEGURIDAD HUMANA Y JUSTICIA SOCIAL / E. ATLETAS Y PARATLETAS COMO EMBAJADORES DE PAZ EN EL MUNDO | C24: ='VIGENCIA ACTUAL '!P105 -> 700000000 | D24: ='VIGENCIA ACTUAL '!R105 -> 592491292 | E24: ='VIGENCIA ACTUAL '!S105 -> 164202578 | F24: =+'VIGENCIA ACTUAL '!T105 -> 15466666 | G24: ='VIGENCIA ACTUAL '!V105 -> 15466666 | H24: =D24/$C$24 -> 0.84641613 | I24: =E24/$C$24 -> 0.23457511 | J24: =F24/$C$24 -> 0.022095237 | K24: =G24/$C$24 -> 0.022095237
A25: C-4399-1604-28-20303A | B25: ='VIGENCIA ACTUAL '!J108 -> 2. SEGURIDAD HUMANA Y JUSTICIA SOCIAL / A. DEMOCRATIZAR EL ACCESO DE LA POBLACIÓN AL DEPORTE, LA RECREACIÓN Y LA ACTIVIDAD FÍSICA | C25: ='VIGENCIA ACTUAL '!P108 -> 100000000000 | D25: ='VIGENCIA ACTUAL '!R108 -> 8.7266624e+10 | E25: ='VIGENCIA ACTUAL '!S108 -> 6.1716937e+10 | F25: ='VIGENCIA ACTUAL '!T108 -> 2.2820393e+10 | G25: ='VIGENCIA ACTUAL '!V108 -> 2.2820393e+10 | H25: =D25/C25 -> 0.87266624 | I25: =E25/C25 -> 0.61716937 | J25: =F25/C25 -> 0.22820393 | K25: =G25/C25 -> 0.22820393
A26: C-4399-1604-29-20303F | B26: ='VIGENCIA ACTUAL '!J111 -> 2. SEGURIDAD HUMANA Y JUSTICIA SOCIAL / F. EL DEPORTE, LA RECREACIÓN Y LA ACTIVIDAD FÍSICA COMO EJE DE LA ECONOMÍA POPULAR | C26: ='VIGENCIA ACTUAL '!P111 -> 35326469348 | D26: ='VIGENCIA ACTUAL '!R111 -> 3.3978018e+10 | E26: ='VIGENCIA ACTUAL '!S111 -> 3.1686717e+10 | F26: ='VIGENCIA ACTUAL '!T111 -> 2.2394767e+10 | G26: ='VIGENCIA ACTUAL '!V111 -> 2.2394767e+10 | H26: =D26/$C$26 -> 0.96182885 | I26: =E26/C26 -> 0.89696813 | J26: =F26/C26 -> 0.6339373 | K26: =G26/C26 -> 0.6339373
A27: C-4399-1604-7-20303D | B27: ='VIGENCIA ACTUAL '!J117 -> 2. SEGURIDAD HUMANA Y JUSTICIA SOCIAL / D. SISTEMA DE INFORMACIÓN DEL DEPORTE, LA RECREACIÓN Y LA ACTIVIDAD FÍSICA | C27: ='VIGENCIA ACTUAL '!P117 -> 6000000000 | D27: ='VIGENCIA ACTUAL '!R117 -> 5.5348303e+09 | E27: ='VIGENCIA ACTUAL '!S117 -> 4.016219e+09 | F27: ='VIGENCIA ACTUAL '!T117 -> 1.5122398e+09 | G27: ='VIGENCIA ACTUAL '!V117 -> 1.5122398e+09 | H27: =D27/C27 -> 0.92247172 | I27: =E27/C27 -> 0.66936984 | J27: =F27/C27 -> 0.25203997 | K27: =G27/C27 -> 0.25203997
A28: C-4399-1604-8-53105B | B28: ='VIGENCIA ACTUAL '!J120 -> 5. CONVERGENCIA REGIONAL / B. ENTIDADES PÚBLICAS TERRITORIALES Y NACIONALES FORTALECIDAS | C28: ='VIGENCIA ACTUAL '!P120 -> 7848000000 | D28: ='VIGENCIA ACTUAL '!R120 -> 7.2290265e+09 | E28: ='VIGENCIA ACTUAL '!S120 -> 7.1336384e+09 | F28: ='VIGENCIA ACTUAL '!T120 -> 4.9036657e+09 | G28: ='VIGENCIA ACTUAL '!V120 -> 4.9036657e+09 | H28: =D28/$C$28 -> 0.92112978 | I28: =E28/$C$28 -> 0.90897533 | J28: =F28/$C$28 -> 0.62482998 | K28: =G28/$C$28 -> 0.62482998
A29: C-4399-1604-10-53105B | B29: ='VIGENCIA ACTUAL '!J123 -> 5. CONVERGENCIA REGIONAL / B. ENTIDADES PÚBLICAS TERRITORIALES Y NACIONALES FORTALECIDAS | C29: ='VIGENCIA ACTUAL '!P123 -> 4052000000 | D29: ='VIGENCIA ACTUAL '!R123 -> 4024101750 | E29: ='VIGENCIA ACTUAL '!S123 -> 2398841768 | F29: ='VIGENCIA ACTUAL '!T123 -> 1.5835135e+09 | G29: ='VIGENCIA ACTUAL '!V123 -> 1.5835135e+09 | H29: =D29/$C$29 -> 0.99311494 | I29: =E29/$C$29 -> 0.59201426 | J29: =F29/$C$29 -> 0.39079801 | K29: =G29/$C$29 -> 0.39079801
C32: APROPIACIÓN VIGENTE | D32: PORCENTAJE | G32: COMPROMISO ACUMULADOS | H32: OBLIGACIÓN ACUMULADOS | I32: PAGOS ACUMULADOS
B33: FUNCIONAMIENTO | C33: =+C5 -> 67600696578 | D33: =C33/$C$35 -> 0.14456928 | G33: =+E3 -> 3.5304122e+11 | H33: =+F3 -> 2.3087623e+11 | I33: =+G3 -> 2.3087623e+11
B34: INVERSIÓN | C34: =+C6 -> 400000000000 | D34: =C34/$C$35 -> 0.85543072
B35: TOTAL | C35: =SUM(C33:C34) -> 467600696578 | D35: =SUM(D33:D34) -> 1
A237: EJECUCIÓN DEL PRESUPUESTO DE INVERSIÓN NACIÓN
A238: Por Proyectos de Inversión
A239: Expresado en millones de pesos
A241: RUBRO | B241: DESCRIPCIÓN | C241: APROPIACIÓN VIGENTE | D241: COMPROMISO | E241: % | F241: OBLIGACIÓN | G241: % | H241: PAGOS | I241: %
A242: C-4301-1604-13-20203B | B242: =B18 -> 2. SEGURIDAD HUMANA Y JUSTICIA SOCIAL / B. RESIGNIFICACIÓN DE LA JORNADA ESCOLAR: MÁS QUE TIEMPO | C242: =C18 -> 80000000000 | D242: =E18 -> 74286984221 | E242: =I18 -> 0.9285873 | F242: =F18 -> 4.7450843e+10 | G242: =J18 -> 0.59313554 | H242: =G18 -> 4.7450843e+10 | I242: =K18 -> 0.59313554
A243: C-4301-1604-14-20303A | B243: =B19 -> 2. SEGURIDAD HUMANA Y JUSTICIA SOCIAL / A. DEMOCRATIZAR EL ACCESO DE LA POBLACIÓN AL DEPORTE, LA RECREACIÓN Y LA ACTIVIDAD FÍSICA | C243: =C19 -> 41017078763 | D243: =E19 -> 3.6855089e+10 | E243: =I19 -> 0.89853033 | F243: =F19 -> 1.7457297e+10 | G243: =J19 -> 0.42561044 | H243: =G19 -> 1.7457297e+10 | I243: =K19 -> 0.42561044
A244: C-4302-1604-20-20303D | B244: =B20 -> 2. SEGURIDAD HUMANA/D. SISTEMA DE INFORMACIÓN DEL DEPORTE, LA RECREACIÓN Y LA ACTIVIDAD FÍSICA | C244: =C20 -> 1345730309 | D244: =E20 -> 1061830767 | E244: =I20 -> 0.78903682 | F244: =F20 -> 863448985 | G244: =J20 -> 0.64162112 | H244: =G20 -> 863448985 | I244: =K20 -> 0.64162112
A245: C-4302-1604-23-20303A | B245: =B21 -> 2. SEGURIDAD HUMANA Y JUSTICIA SOCIAL / A. DEMOCRATIZAR EL ACCESO DE LA POBLACIÓN AL DEPORTE, LA RECREACIÓN Y LA ACTIVIDAD FÍSICA | C245: =C21 -> 2691460619 | D245: =E21 -> 2569269955 | E245: =I21 -> 0.95460061 | F245: =F21 -> 1.9203967e+09 | G245: =J21 -> 0.71351468 | H245: =G21 -> 1.9203967e+09 | I245: =K21 -> 0.71351468
A246: C-4302-1604-24-20303E | B246: =B22 -> 2. SEGURIDAD HUMANA Y JUSTICIA SOCIAL / E. ATLETAS Y PARATLETAS COMO EMBAJADORES DE PAZ EN EL MUNDO | C246: =C22 -> 2345730309 | D246: =E22 -> 1350501012 | E246: =I22 -> 0.57572731 | F246: =F22 -> 1.3098478e+09 | G246: =J22 -> 0.55839658 | H246: =G22 -> 1.3098478e+09 | I246: =K22 -> 0.55839658
A247: C-4302-1604-26-20303E | B247: =B23 -> 2. SEGURIDAD HUMANA Y JUSTICIA SOCIAL / E. ATLETAS Y PARATLETAS COMO EMBAJADORES DE PAZ EN EL MUNDO | C247: =C23 -> 118673530652 | D247: =E23 -> 9.3565887e+10 | E247: =I23 -> 0.78843097 | F247: =F23 -> 7.5418722e+10 | G247: =J23 -> 0.63551426 | H247: =G23 -> 7.5418722e+10 | I247: =K23 -> 0.63551426
A248: RUBRO | B248: DESCRIPCIÓN | C248: APROPIACIÓN VIGENTE | D248: COMPROMISO | E248: % | F248: OBLIGACIÓN | G248: % | H248: PAGOS | I248: %
A249: C-4399-1604-27-20303E | B249: =B24 -> 2. SEGURIDAD HUMANA Y JUSTICIA SOCIAL / E. ATLETAS Y PARATLETAS COMO EMBAJADORES DE PAZ EN EL MUNDO | C249: =C24 -> 700000000 | D249: =E24 -> 164202578 | E249: =I24 -> 0.23457511 | F249: =F24 -> 15466666 | G249: =J24 -> 0.022095237 | H249: =G24 -> 15466666 | I249: =K24 -> 0.022095237
...

Sheet RESERVAS NO PUBLICAR
A6: INFORME DE RESERVA PRESUPUESTAL
B8: SECCION: | D8: 4301
B9: UNIDAD EJECUTORA: | D9: 430101
B10: AÑO FISCAL: | D10: 2021
B11: PERIODO: | D11: MARZO
A13: IDENTIFICACIÓN PRESUPUESTAL | K13: NOMBRE DEL RUBRO | L13: COMPROMISO ACUMULADOS CONSTITUCIÓN | M13: LIBERACIONES | N13: COMPROMISO ACUMULADOS VIGENTES | O13: OBLIGACIÓN ACUMULADOS | P13: ORDEN PAGO ACUMULADOS | Q13: PAGOS ACUMULADOS | R13: % EJECUCIÓN
A14: Tipo Presupuesto | B14: Cuenta / Programa | C14: Subcuenta / Subprograma | D14: Objeto / Proyecto | E14: Ordinal / Subproy | F14: SubOrdinal / Producto | G14: Item | H14: Rec | I14: FUENTE | J14: Situación
A15: A+C | K15: TOTAL RESERVAS | L15: =L16+L33 -> 2.0030452e+11 | M15: =M16+M33 -> -6.3423042e+08 | N15: =N16+N33 -> 1.9967029e+11 | O15: =O16+O33 -> 2.6378757e+10 | P15: =P16+P33 -> 1.7840573e+10 | Q15: =Q16+Q33 -> 1.7840573e+10 | R15: =O15/L15 -> 0.13169327
A16: A | K16: A- FUNCIONAMIENTO | L16: =L17+L26 -> 1.4819486e+09 | M16: =M17+M26 -> 0 | N16: =N17+N26 -> 1.4819486e+09 | O16: =O17+O26 -> 4.5093057e+08 | P16: =P17+P26 -> 4.502032e+08 | Q16: =Q17+Q26 -> 4.502032e+08 | R16: =O16/L16 -> 0.3042822
A17: A | B17: 02 | K17: ADQUISICIÓN DE BIENES Y SERVICIOS | L17: =L18 -> 2.2663983e+08 | M17: =M18 -> 0 | N17: =N18 -> 2.2663983e+08 | O17: =O18 -> 1.6601941e+08 | P17: =P18 -> 1.6529204e+08 | Q17: =Q18 -> 1.6529204e+08 | R17: =O17/L17 -> 0.73252529
A18: A | B18: 02 | C18: 02 | K18: ADQUISICIONES DIFERENTES DE ACTIVOS | L18: =L19+L22 -> 2.2663983e+08 | M18: =M19+M22 -> 0 | N18: =N19+N22 -> 2.2663983e+08 | O18: =O19+O22 -> 1.6601941e+08 | P18: =P19+P22 -> 1.6529204e+08 | Q18: =Q19+Q22 -> 1.6529204e+08 | R18: =O18/L18 -> 0.73252529
A19: A | B19: 02 | C19: 02 | D19: 01 | K19: MATERIALES Y SUMINISTROS | L19: =SUM(L20:L21) -> 29013385 | M19: =SUM(M20:M21) -> 0 | N19: =SUM(N20:N21) -> 29013385 | O19: =SUM(O20:O21) -> 6649869.4 | P19: =SUM(P20:P21) -> 6649869.4 | Q19: =SUM(Q20:Q21) -> 6649869.4 | R19: =O19/L19 -> 0.22920005
A20: A | B20: 02 | C20: 02 | D20: 01 | E20: 003 | H20: 10 | I20: Nación | J20: CSF | K20: OTROS BIENES TRANSPORTABLES (EXCEPTO PRODUCTOS METÁLICOS, MAQUINARIA Y EQUIPO) | L20: 22026385 | M20: =N20-L20 -> 0 | N20: 22026385 | O20: 4111885 | P20: 4111885 | Q20: 4111885 | R20: =O20/L20 -> 0.18667997
A21: A | B21: 02 | C21: 02 | D21: 01 | E21: 004 | H21: 10 | I21: Nación | J21: CSF | K21: PRODUCTOS METÁLICOS Y PAQUETES DE SOFTWARE | L21: 6987000 | M21: =N21-L21 -> 0 | N21: 6987000 | O21: 2537984.4 | P21: 2537984.4 | Q21: 2537984.4 | R21: =O21/L21 -> 0.3632438
A22: A | B22: 02 | C22: 02 | D22: 02 | K22: ADQUISICIÓN DE SERVICIOS | L22: =SUM(L23:L25) -> 1.9762645e+08 | M22: =SUM(M23:M25) -> 0 | N22: =SUM(N23:N25) -> 1.9762645e+08 | O22: =SUM(O23:O25) -> 1.5936954e+08 | P22: =SUM(P23:P25) -> 1.5864217e+08 | Q22: =SUM(Q23:Q25) -> 1.5864217e+08 | R22: =O22/L22 -> 0.80641808
A23: A | B23: 02 | C23: 02 | D23: 02 | E23: 006 | H23: 10 | I23: Nación | J23: CSF | K23: SERVICIOS DE ALOJAMIENTO; SERVICIOS DE SUMINISTRO DE COMIDAS Y BEBIDAS; SERVICIOS DE TRANSPORTE; Y SERVICIOS DE DISTRIBUCIÓN DE ELECTRICIDAD, GAS Y AGUA | L23: 113756 | M23: =N23-L23 -> 0 | N23: 113756 | O23: 113756 | P23: 113756 | Q23: 113756 | R23: =O23/L23 -> 1
A24: A | B24: 02 | C24: 02 | D24: 02 | E24: 008 | H24: 10 | I24: Nación | J24: CSF | K24: SERVICIOS PRESTADOS A LAS EMPRESAS Y SERVICIOS DE PRODUCCIÓN. | L24: 92759908 | M24: =N24-L24 -> 0 | N24: 92759908 | O24: 70926168 | P24: 70198795 | Q24: 70198795 | R24: =O24/L24 -> 0.76462093
A25: A | B25: 02 | C25: 02 | D25: 02 | E25: 009 | H25: 10 | I25: Nación | J25: CSF | K25: SERVICIOS PARA LA COMUNIDAD, SOCIALES Y PERSONALES | L25: 104752785 | M25: =N25-L25 -> 0 | N25: 104752785 | O25: 88329618 | P25: 88329618 | Q25: 88329618 | R25: =O25/L25 -> 0.84321976
A26: A | B26: 03 | K26: TRANSFERENCIAS CORRIENTES | L26: =+L27+L30 -> 1255308735 | M26: =+M27+M30 -> 0 | N26: =+N27+N30 -> 1255308735 | O26: =+O27+O30 -> 284911161 | P26: =+P27+P30 -> 284911161 | Q26: =+Q27+Q30 -> 284911161 | R26: =O26/L26 -> 0.22696501
A27: A | B27: 03 | C27: 03 | K27: A ENTIDADES DEL GOBIERNO | L27: =+L28 -> 85778 | N27: =+N28 -> 85778 | O27: =+O28 -> 85778 | P27: =+P28 -> 85778 | Q27: =+Q28 -> 85778 | R27: =O27/L27 -> 1
A28: A | B28: 03 | C28: 03 | D28: 04 | K28: A OTRAS ENTIDADES DEL GOBIERNO GENERAL | L28: =+L29 -> 85778 | M28: =+M29+M32 -> -6.3423042e+08 | N28: =+N29 -> 85778 | O28: =+O29 -> 85778 | P28: =+P29 -> 85778 | Q28: =+Q29 -> 85778 | R28: =O28/L28 -> 1
A29: A | B29: 03 | C29: 03 | D29: 04 | E29: 048 | K29: ESCUELA NACIONAL DEL DEPORTE - ART. 51 DECRETO 2845 DE 1984 | L29: 85778 | M29: =+M30+M33 -> -6.3423042e+08 | N29: 85778 | O29: 85778 | P29: 85778 | Q29: 85778 | R29: =O29/L29 -> 1
A30: A | B30: 03 | C30: 04 | K30: PRESTACIONES SOCIALES | L30: =L31 -> 1255222957 | M30: =M31 -> 0 | N30: =N31 -> 1255222957 | O30: =O31 -> 284825383 | P30: =P31 -> 284825383 | Q30: =Q31 -> 284825383 | R30: =O30/L30 -> 0.22691218
A31: A | B31: 03 | C31: 04 | D31: 02 | K31: PRESTACIONES SOCIALES RELACIONADAS CON EL EMPLEO | L31: =SUM(L32:L32) -> 1255222957 | M31: =SUM(M32:M32) -> 0 | N31: =SUM(N32:N32) -> 1255222957 | O31: =SUM(O32:O32) -> 284825383 | P31: =SUM(P32:P32) -> 284825383 | Q31: =SUM(Q32:Q32) -> 284825383 | R31: =O31/L31 -> 0.22691218
A32: A | B32: 03 | C32: 04 | D32: 02 | E32: 001 | H32: 10 | I32: Nación | J32: CSF | K32: MESADAS PENSIONALES (DE PENSIONES) | L32: 1255222957 | M32: =N32-L32 -> 0 | N32: 1255222957 | O32: 284825383 | P32: 284825383 | Q32: 284825383 | R32: =O32/L32 -> 0.22691218
A33: C | K33: C- INVERSIÓN | L33: =L34+L52+L84 -> 1.9882257e+11 | M33: =M34+M52+M84 -> -6.3423042e+08 | N33: =N34+N52+N84 -> 1.9818834e+11 | O33: =O34+O52+O84 -> 2.5927826e+10 | P33: =P34+P52+P84 -> 1.7390369e+10 | Q33: =Q34+Q52+Q84 -> 1.7390369e+10 | R33: =O33/L33 -> 0.13040685
A34: C | B34: 4301 | K34: FOMENTO A LA RECREACIÓN, LA ACTIVIDAD FÍSICA Y EL DEPORTE PARA DESARROLLAR ENTORNOS DE CONVIVENCIA Y PAZ | L34: =L35 -> 1.3376869e+10 | M34: =M35 -> -15568417 | N34: =N35 -> 1.3361301e+10 | O34: =O35 -> 3.3250287e+09 | P34: =P35 -> 3.260237e+09 | Q34: =Q35 -> 3.260237e+09 | R34: =O34/L34 -> 0.24856554
A35: C | B35: 4301 | C35: 1604 | K35: RECREACIÓN Y DEPORTE | L35: =L36+L38+L42+L46+L50 -> 1.3376869e+10 | M35: =M36+M38+M42+M46+M50 -> -15568417 | N35: =N36+N38+N42+N46+N50 -> 1.3361301e+10 | O35: =O36+O38+O42+O46+O50 -> 3.3250287e+09 | P35: =P36+P38+P42+P46+P50 -> 3.260237e+09 | Q35: =Q36+Q38+Q42+Q46+Q50 -> 3.260237e+09 | R35: =O35/L35 -> 0.24856554
A36: C | B36: 4301 | C36: 1604 | D36: 8 | H36: 11 | I36: Nación | J36: CSF | K36: APOYO A LA EDUCACIÓN FÍSICA EXTRAESCOLAR Y EL DEPORTE FORMATIVO PARA LA INFANCIA, ADOLESCENCIA Y JUVENTUD A NIVEL NACIONAL | L36: =SUM(L37) -> 7492757968 | M36: =SUM(M37) -> 0 | N36: =SUM(N37) -> 7492757968 | O36: =SUM(O37) -> 218985609 | P36: =SUM(P37) -> 217931334 | Q36: =SUM(Q37) -> 217931334 | R36: =O36/L36 -> 0.029226302
A37: C | B37: 4301 | C37: 1604 | D37: 8 | E37: 0 | F37: 4301037 | K37: SERVICIO DE PROMOCIÓN DE LA ACTIVIDAD FÍSICA, LA RECREACIÓN Y EL DEPORTE | L37: 7492757968 | M37: =N37-L37 -> 0 | N37: 7492757968 | O37: 218985609 | P37: 217931334 | Q37: 217931334 | R37: =O37/L37 -> 0.029226302
A38: C | B38: 4301 | C38: 1604 | D38: 9 | K38: DESARROLLO DE LA ACTIVIDAD FÍSICA Y LOS HÁBITOS Y ESTILOS DE VIDA SALUDABLE A NIVEL NACIONAL | L38: =SUM(L39:L41) -> 1088138127 | M38: =SUM(M39:M41) -> -592039 | N38: =SUM(N39:N41) -> 1087546088 | O38: =SUM(O39:O41) -> 269265809 | P38: =SUM(P39:P41) -> 257765809 | Q38: =SUM(Q39:Q41) -> 257765809 | R38: =O38/L38 -> 0.24745554
A39: C | B39: 4301 | C39: 1604 | D39: 9 | E39: 0 | F39: 4301034 | H39: 11 | I39: Nación | J39: CSF | K39: SERVICIO DE APOYO FINANCIERO A ORGANISMOS DEPORTIVOS | L39: 809318094 | M39: =N39-L39 -> -592039 | N39: 808726055 | O39: 169096576 | P39: 157596576 | Q39: 157596576 | R39: =O39/L39 -> 0.2089371
A40: C | B40: 4301 | C40: 1604 | D40: 9 | E40: 0 | F40: 4301035 | H40: 11 | I40: Nación | J40: CSF | K40: SERVICIO DE EDUCACIÓN INFORMAL EN RECREACIÓN | L40: 100169233 | M40: =N40-L40 -> 0 | N40: 100169233 | O40: 100169233 | P40: 100169233 | Q40: 100169233 | R40: =O40/L40 -> 1
A41: C | B41: 4301 | C41: 1604 | D41: 9 | E41: 0 | F41: 4301037 | H41: 11 | I41: Nación | J41: CSF | K41: SERVICIO DE PROMOCIÓN DE LA ACTIVIDAD FÍSICA, LA RECREACIÓN Y EL DEPORTE - | L41: 178650800 | M41: =N41-L41 -> 0 | N41: 178650800 | O41: 0 | P41: 0 | Q41: 0
A42: C | B42: 4301 | C42: 1604 | D42: 10 | K42: DESARROLLO DE LA RECREACIÓN A NIVEL NACIONAL | L42: =SUM(L43:L45) -> 665780015 | M42: =SUM(M43:M45) -> 0 | N42: =SUM(N43:N45) -> 665780015 | O42: =SUM(O43:O45) -> 28824710 | P42: =SUM(P43:P45) -> 28824710 | Q42: =SUM(Q43:Q45) -> 28824710 | R42: =O42/L42 -> 0.043294646
A43: C | B43: 4301 | C43: 1604 | D43: 10 | E43: 0 | F43: 4301034 | H43: 11 | I43: Nación | J43: CSF | K43: SERVICIO DE APOYO FINANCIERO A ORGANISMOS DEPORTIVOS | L43: 317415873 | M43: =N43-L43 -> 0 | N43: 317415873 | O43: 0 | P43: 0 | Q43: 0 | R43: =O43/L43 -> 0
A44: C | B44: 4301 | C44: 1604 | D44: 10 | E44: 0 | F44: 4301035 | H44: 11 | I44: Nación | J44: CSF | K44: SERVICIO DE EDUCACIÓN INFORMAL EN RECREACIÓN | L44: 13736000 | M44: =N44-L44 -> 0 | N44: 13736000 | O44: 13574710 | P44: 13574710 | Q44: 13574710 | R44: =O44/L44 -> 0.98825786
A45: C | B45: 4301 | C45: 1604 | D45: 10 | E45: 0 | F45: 4301037 | H45: 11 | I45: Nación | J45: CSF | K45: SERVICIO DE PROMOCIÓN DE LA ACTIVIDAD FÍSICA, LA RECREACIÓN Y EL DEPORTE | L45: 334628142 | M45: =N45-L45 -> 0 | N45: 334628142 | O45: 15250000 | P45: 15250000 | Q45: 15250000 | R45: =O45/L45 -> 0.045572975
A46: C | B46: 4301 | C46: 1604 | D46: 11 | K46: DESARROLLO AL DEPORTE SOCIAL COMUNITARIO NACIONAL | L46: =SUM(L47:L49) -> 3.1283105e+09 | M46: =SUM(M47:M49) -> -10123078 | N46: =SUM(N47:N49) -> 3.1181874e+09 | O46: =SUM(O47:O49) -> 2.7667936e+09 | P46: =SUM(P47:P49) -> 2.7318682e+09 | Q46: =SUM(Q47:Q49) -> 2.7318682e+09 | R46: =O46/L46 -> 0.884437
A47: C | B47: 4301 | C47: 1604 | D47: 11 | E47: 0 | F47: 4301001 | H47: 11 | I47: Nación | J47: CSF | K47: SERVICIO DE APOYO A LA ACTIVIDAD FÍSICA, LA RECREACIÓN Y EL DEPORTE | L47: 28421162 | M47: =N47-L47 -> 0 | N47: 28421162 | O47: 8244278 | P47: 6619868 | Q47: 6619868 | R47: =O47/L47 -> 0.29007533
...
